Package: MesKit Version: 1.17.0 Command: /Library/Frameworks/R.framework/Resources/bin/R CMD build --keep-empty-dirs --no-resave-data MesKit StartedAt: 2025-02-19 16:51:46 -0500 (Wed, 19 Feb 2025) EndedAt: 2025-02-19 16:52:24 -0500 (Wed, 19 Feb 2025) EllapsedTime: 37.4 seconds RetCode: 0 Status: OK PackageFile: MesKit_1.17.0.tar.gz PackageFileSize: 4.008 MiB