Package: Mergeomics Version: 1.35.0 Command: rm -rf Mergeomics.buildbin-libdir && mkdir Mergeomics.buildbin-libdir && E:\biocbuild\bbs-3.21-bioc\R\bin\R.exe CMD INSTALL --build --library=Mergeomics.buildbin-libdir Mergeomics_1.35.0.tar.gz StartedAt: 2025-02-20 08:07:45 -0500 (Thu, 20 Feb 2025) EndedAt: 2025-02-20 08:08:39 -0500 (Thu, 20 Feb 2025) EllapsedTime: 54.6 seconds RetCode: 0 Status: OK PackageFile: Mergeomics_1.35.0.zip PackageFileSize: 3.327 MiB