Package: Mergeomics Version: 1.35.0 Command: /Library/Frameworks/R.framework/Resources/bin/R CMD build --keep-empty-dirs --no-resave-data Mergeomics StartedAt: 2025-02-19 17:15:07 -0500 (Wed, 19 Feb 2025) EndedAt: 2025-02-19 17:21:26 -0500 (Wed, 19 Feb 2025) EllapsedTime: 379.1 seconds RetCode: 0 Status: OK PackageFile: Mergeomics_1.35.0.tar.gz PackageFileSize: 3.203 MiB