Package: Melissa Version: 1.23.0 Command: rm -rf Melissa.buildbin-libdir && mkdir Melissa.buildbin-libdir && E:\biocbuild\bbs-3.21-bioc\R\bin\R.exe CMD INSTALL --build --library=Melissa.buildbin-libdir Melissa_1.23.0.tar.gz StartedAt: 2025-02-18 07:41:51 -0500 (Tue, 18 Feb 2025) EndedAt: 2025-02-18 07:42:23 -0500 (Tue, 18 Feb 2025) EllapsedTime: 32.2 seconds RetCode: 0 Status: OK PackageFile: Melissa_1.23.0.zip PackageFileSize: 3.693 MiB