Package: Melissa Version: 1.23.0 Command: /Library/Frameworks/R.framework/Resources/bin/R CMD build --keep-empty-dirs --no-resave-data Melissa StartedAt: 2025-02-17 17:13:16 -0500 (Mon, 17 Feb 2025) EndedAt: 2025-02-17 17:16:13 -0500 (Mon, 17 Feb 2025) EllapsedTime: 176.9 seconds RetCode: 0 Status: OK PackageFile: Melissa_1.23.0.tar.gz PackageFileSize: 2.883 MiB