Package: MeSHDbi Version: 1.43.0 Command: E:\biocbuild\bbs-3.21-bioc\R\bin\R.exe CMD check --no-multiarch --install=check:MeSHDbi.install-out.txt --library=E:\biocbuild\bbs-3.21-bioc\R\library --no-vignettes --timings MeSHDbi_1.43.0.tar.gz StartedAt: 2025-02-21 02:57:52 -0500 (Fri, 21 Feb 2025) EndedAt: 2025-02-21 02:59:53 -0500 (Fri, 21 Feb 2025) EllapsedTime: 121.1 seconds RetCode: 0 Status: OK CheckDir: MeSHDbi.Rcheck Warnings: 0