Package: MeSHDbi Version: 1.43.0 Command: rm -rf MeSHDbi.buildbin-libdir && mkdir MeSHDbi.buildbin-libdir && E:\biocbuild\bbs-3.21-bioc\R\bin\R.exe CMD INSTALL --build --library=MeSHDbi.buildbin-libdir MeSHDbi_1.43.0.tar.gz StartedAt: 2025-02-21 08:29:18 -0500 (Fri, 21 Feb 2025) EndedAt: 2025-02-21 08:29:51 -0500 (Fri, 21 Feb 2025) EllapsedTime: 33.5 seconds RetCode: 0 Status: OK PackageFile: MeSHDbi_1.43.0.zip PackageFileSize: 458.6 KiB