Package: MeSHDbi Version: 1.43.0 Command: /home/biocbuild/bbs-3.21-bioc/R/bin/R CMD build --keep-empty-dirs --no-resave-data MeSHDbi StartedAt: 2025-02-21 18:26:59 -0500 (Fri, 21 Feb 2025) EndedAt: 2025-02-21 18:27:14 -0500 (Fri, 21 Feb 2025) EllapsedTime: 15.0 seconds RetCode: 0 Status: OK PackageFile: MeSHDbi_1.43.0.tar.gz PackageFileSize: 119.8 KiB