Package: MeSHDbi Version: 1.43.0 Command: /Library/Frameworks/R.framework/Resources/bin/R CMD build --keep-empty-dirs --no-resave-data MeSHDbi StartedAt: 2025-02-21 17:15:35 -0500 (Fri, 21 Feb 2025) EndedAt: 2025-02-21 17:15:56 -0500 (Fri, 21 Feb 2025) EllapsedTime: 20.5 seconds RetCode: 0 Status: OK PackageFile: MeSHDbi_1.43.0.tar.gz PackageFileSize: 119.7 KiB