Package: MeSHDbi Version: 1.43.0 Command: rm -rf MeSHDbi.buildbin-libdir && mkdir MeSHDbi.buildbin-libdir && /Users/biocbuild/BBS/utils/build-universal.sh MeSHDbi_1.43.0.tar.gz /Library/Frameworks/R.framework/Resources/bin/R MeSHDbi.buildbin-libdir StartedAt: 2025-02-22 00:39:38 -0500 (Sat, 22 Feb 2025) EndedAt: 2025-02-22 00:39:58 -0500 (Sat, 22 Feb 2025) EllapsedTime: 19.6 seconds RetCode: 0 Status: OK PackageFile: MeSHDbi_1.43.0.tgz PackageFileSize: 533.2 KiB