Package: MeSHDbi Version: 1.43.0 Command: /Library/Frameworks/R.framework/Resources/bin/R CMD INSTALL MeSHDbi StartedAt: 2025-02-21 15:08:12 -0500 (Fri, 21 Feb 2025) EndedAt: 2025-02-21 15:08:18 -0500 (Fri, 21 Feb 2025) EllapsedTime: 5.5 seconds RetCode: 0 Status: OK