Package: MeSHDbi Version: 1.43.0 Command: /Library/Frameworks/R.framework/Resources/bin/R CMD check --install=check:MeSHDbi.install-out.txt --library=/Library/Frameworks/R.framework/Resources/library --no-vignettes --timings MeSHDbi_1.43.0.tar.gz StartedAt: 2025-02-20 20:02:51 -0500 (Thu, 20 Feb 2025) EndedAt: 2025-02-20 20:03:33 -0500 (Thu, 20 Feb 2025) EllapsedTime: 41.5 seconds RetCode: 0 Status: OK CheckDir: MeSHDbi.Rcheck Warnings: 0