Package: MeSHDbi Version: 1.43.0 Command: /Library/Frameworks/R.framework/Resources/bin/R CMD build --keep-empty-dirs --no-resave-data MeSHDbi StartedAt: 2025-02-20 16:50:49 -0500 (Thu, 20 Feb 2025) EndedAt: 2025-02-20 16:50:57 -0500 (Thu, 20 Feb 2025) EllapsedTime: 8.1 seconds RetCode: 0 Status: OK PackageFile: MeSHDbi_1.43.0.tar.gz PackageFileSize: 119.7 KiB