Package: MatrixQCvis Version: 1.15.0 Command: E:\biocbuild\bbs-3.21-bioc\R\bin\R.exe CMD check --no-multiarch --install=check:MatrixQCvis.install-out.txt --library=E:\biocbuild\bbs-3.21-bioc\R\library --no-vignettes --timings MatrixQCvis_1.15.0.tar.gz StartedAt: 2025-02-21 02:52:17 -0500 (Fri, 21 Feb 2025) EndedAt: 2025-02-21 02:58:04 -0500 (Fri, 21 Feb 2025) EllapsedTime: 347.6 seconds RetCode: 0 Status: OK CheckDir: MatrixQCvis.Rcheck Warnings: 0