Package: MatrixQCvis Version: 1.15.0 Command: /Library/Frameworks/R.framework/Resources/bin/R CMD INSTALL MatrixQCvis StartedAt: 2025-02-19 15:21:53 -0500 (Wed, 19 Feb 2025) EndedAt: 2025-02-19 15:22:08 -0500 (Wed, 19 Feb 2025) EllapsedTime: 14.9 seconds RetCode: 0 Status: OK