Package: MatrixGenerics Version: 1.19.1 Command: /Library/Frameworks/R.framework/Resources/bin/R CMD build --keep-empty-dirs --no-resave-data MatrixGenerics StartedAt: 2025-02-19 17:13:11 -0500 (Wed, 19 Feb 2025) EndedAt: 2025-02-19 17:13:13 -0500 (Wed, 19 Feb 2025) EllapsedTime: 2.3 seconds RetCode: 0 Status: OK PackageFile: MatrixGenerics_1.19.1.tar.gz PackageFileSize: 31.26 KiB