Package: MatrixGenerics Version: 1.19.1 Command: rm -rf MatrixGenerics.buildbin-libdir && mkdir MatrixGenerics.buildbin-libdir && /Users/biocbuild/BBS/utils/build-universal.sh MatrixGenerics_1.19.1.tar.gz /Library/Frameworks/R.framework/Resources/bin/R MatrixGenerics.buildbin-libdir StartedAt: 2025-02-20 00:39:37 -0500 (Thu, 20 Feb 2025) EndedAt: 2025-02-20 00:39:46 -0500 (Thu, 20 Feb 2025) EllapsedTime: 9.4 seconds RetCode: 0 Status: OK PackageFile: MatrixGenerics_1.19.1.tgz PackageFileSize: 445.6 KiB