Package: MatrixGenerics Version: 1.19.1 Command: rm -rf MatrixGenerics.buildbin-libdir && mkdir MatrixGenerics.buildbin-libdir && /Users/biocbuild/BBS/utils/build-universal.sh MatrixGenerics_1.19.1.tar.gz /Library/Frameworks/R.framework/Resources/bin/R MatrixGenerics.buildbin-libdir StartedAt: 2025-02-20 22:24:26 -0500 (Thu, 20 Feb 2025) EndedAt: 2025-02-20 22:24:28 -0500 (Thu, 20 Feb 2025) EllapsedTime: 2.1 seconds RetCode: 0 Status: OK PackageFile: MatrixGenerics_1.19.1.tgz PackageFileSize: 449.1 KiB