Package: MassSpecWavelet Version: 1.73.1 Command: E:\biocbuild\bbs-3.21-bioc\R\bin\R.exe CMD check --no-multiarch --install=check:MassSpecWavelet.install-out.txt --library=E:\biocbuild\bbs-3.21-bioc\R\library --no-vignettes --timings MassSpecWavelet_1.73.1.tar.gz StartedAt: 2025-02-21 02:51:08 -0500 (Fri, 21 Feb 2025) EndedAt: 2025-02-21 02:51:58 -0500 (Fri, 21 Feb 2025) EllapsedTime: 49.6 seconds RetCode: 0 Status: OK CheckDir: MassSpecWavelet.Rcheck Warnings: 0