Package: MassSpecWavelet Version: 1.73.1 Command: /Library/Frameworks/R.framework/Resources/bin/R CMD check --install=check:MassSpecWavelet.install-out.txt --library=/Library/Frameworks/R.framework/Resources/library --no-vignettes --timings MassSpecWavelet_1.73.1.tar.gz StartedAt: 2025-02-21 21:23:44 -0500 (Fri, 21 Feb 2025) EndedAt: 2025-02-21 21:24:26 -0500 (Fri, 21 Feb 2025) EllapsedTime: 42.8 seconds RetCode: 0 Status: OK CheckDir: MassSpecWavelet.Rcheck Warnings: 0