Package: MassSpecWavelet Version: 1.73.1 Command: rm -rf MassSpecWavelet.buildbin-libdir && mkdir MassSpecWavelet.buildbin-libdir && /Users/biocbuild/BBS/utils/build-universal.sh MassSpecWavelet_1.73.1.tar.gz /Library/Frameworks/R.framework/Resources/bin/R MassSpecWavelet.buildbin-libdir StartedAt: 2025-02-22 00:39:12 -0500 (Sat, 22 Feb 2025) EndedAt: 2025-02-22 00:39:22 -0500 (Sat, 22 Feb 2025) EllapsedTime: 9.3 seconds RetCode: 0 Status: OK PackageFile: MassSpecWavelet_1.73.1.tgz PackageFileSize: 2.161 MiB