Package: MassSpecWavelet Version: 1.73.1 Command: rm -rf MassSpecWavelet.buildbin-libdir && mkdir MassSpecWavelet.buildbin-libdir && /Users/biocbuild/BBS/utils/build-universal.sh MassSpecWavelet_1.73.1.tar.gz /Library/Frameworks/R.framework/Resources/bin/R MassSpecWavelet.buildbin-libdir StartedAt: 2025-02-20 22:24:23 -0500 (Thu, 20 Feb 2025) EndedAt: 2025-02-20 22:24:26 -0500 (Thu, 20 Feb 2025) EllapsedTime: 3.0 seconds RetCode: 0 Status: OK PackageFile: MassSpecWavelet_1.73.1.tgz PackageFileSize: 2.168 MiB