Package: MassArray Version: 1.59.0 Command: /home/biocbuild/bbs-3.21-bioc/R/bin/R CMD check --install=check:MassArray.install-out.txt --library=/home/biocbuild/bbs-3.21-bioc/R/site-library --timings MassArray_1.59.0.tar.gz StartedAt: 2025-02-17 23:31:11 -0500 (Mon, 17 Feb 2025) EndedAt: 2025-02-17 23:32:03 -0500 (Mon, 17 Feb 2025) EllapsedTime: 52.0 seconds RetCode: 0 Status: OK CheckDir: MassArray.Rcheck Warnings: 0