Package: MassArray Version: 1.59.0 Command: /home/biocbuild/bbs-3.21-bioc/R/bin/R CMD build --keep-empty-dirs --no-resave-data MassArray StartedAt: 2025-02-17 17:52:18 -0500 (Mon, 17 Feb 2025) EndedAt: 2025-02-17 17:52:41 -0500 (Mon, 17 Feb 2025) EllapsedTime: 23.0 seconds RetCode: 0 Status: OK PackageFile: MassArray_1.59.0.tar.gz PackageFileSize: 375 KiB