Package: MassArray Version: 1.59.0 Command: /Library/Frameworks/R.framework/Resources/bin/R CMD build --keep-empty-dirs --no-resave-data MassArray StartedAt: 2025-02-17 17:11:20 -0500 (Mon, 17 Feb 2025) EndedAt: 2025-02-17 17:11:52 -0500 (Mon, 17 Feb 2025) EllapsedTime: 32.0 seconds RetCode: 0 Status: OK PackageFile: MassArray_1.59.0.tar.gz PackageFileSize: 374.5 KiB