Package: MantelCorr Version: 1.77.0 Command: /Library/Frameworks/R.framework/Resources/bin/R CMD check --install=check:MantelCorr.install-out.txt --library=/Library/Frameworks/R.framework/Resources/library --no-vignettes --timings MantelCorr_1.77.0.tar.gz StartedAt: 2025-02-19 21:21:58 -0500 (Wed, 19 Feb 2025) EndedAt: 2025-02-19 21:22:25 -0500 (Wed, 19 Feb 2025) EllapsedTime: 26.3 seconds RetCode: 0 Status: OK CheckDir: MantelCorr.Rcheck Warnings: 0