Package: Macarron Version: 1.11.0 Command: /Library/Frameworks/R.framework/Resources/bin/R CMD build --keep-empty-dirs --no-resave-data Macarron StartedAt: 2025-02-17 17:10:03 -0500 (Mon, 17 Feb 2025) EndedAt: 2025-02-17 17:15:00 -0500 (Mon, 17 Feb 2025) EllapsedTime: 296.8 seconds RetCode: 0 Status: OK PackageFile: Macarron_1.11.0.tar.gz PackageFileSize: 591.1 KiB