Package: Maaslin2 Version: 1.21.0 Command: E:\biocbuild\bbs-3.21-bioc\R\bin\R.exe CMD INSTALL Maaslin2 StartedAt: 2025-02-20 15:56:33 -0500 (Thu, 20 Feb 2025) EndedAt: 2025-02-20 15:56:56 -0500 (Thu, 20 Feb 2025) EllapsedTime: 22.8 seconds RetCode: 0 Status: OK