Package: MWASTools Version: 1.31.0 Command: /Library/Frameworks/R.framework/Resources/bin/R CMD INSTALL MWASTools StartedAt: 2025-02-20 15:32:36 -0500 (Thu, 20 Feb 2025) EndedAt: 2025-02-20 15:33:18 -0500 (Thu, 20 Feb 2025) EllapsedTime: 41.9 seconds RetCode: 0 Status: OK