Package: MWASTools Version: 1.31.0 Command: /Library/Frameworks/R.framework/Resources/bin/R CMD check --install=check:MWASTools.install-out.txt --library=/Library/Frameworks/R.framework/Resources/library --no-vignettes --timings MWASTools_1.31.0.tar.gz StartedAt: 2025-02-20 21:57:56 -0500 (Thu, 20 Feb 2025) EndedAt: 2025-02-20 22:02:11 -0500 (Thu, 20 Feb 2025) EllapsedTime: 254.9 seconds RetCode: 0 Status: OK CheckDir: MWASTools.Rcheck Warnings: 0