Package: MWASTools Version: 1.31.0 Command: /Library/Frameworks/R.framework/Resources/bin/R CMD check --install=check:MWASTools.install-out.txt --library=/Library/Frameworks/R.framework/Resources/library --no-vignettes --timings MWASTools_1.31.0.tar.gz StartedAt: 2025-02-19 20:29:27 -0500 (Wed, 19 Feb 2025) EndedAt: 2025-02-19 20:30:58 -0500 (Wed, 19 Feb 2025) EllapsedTime: 91.3 seconds RetCode: 0 Status: OK CheckDir: MWASTools.Rcheck Warnings: 0