Package: MVCClass Version: 1.82.0 Command: /Library/Frameworks/R.framework/Resources/bin/R CMD INSTALL MVCClass StartedAt: 2025-10-13 15:11:04 -0400 (Mon, 13 Oct 2025) EndedAt: 2025-10-13 15:11:35 -0400 (Mon, 13 Oct 2025) EllapsedTime: 31.0 seconds RetCode: 0 Status: OK