Package: MVCClass Version: 1.82.0 Command: /Library/Frameworks/R.framework/Resources/bin/R CMD build --keep-empty-dirs --no-resave-data MVCClass StartedAt: 2025-10-13 21:02:18 -0400 (Mon, 13 Oct 2025) EndedAt: 2025-10-13 21:02:37 -0400 (Mon, 13 Oct 2025) EllapsedTime: 18.6 seconds RetCode: 0 Status: OK PackageFile: MVCClass_1.82.0.tar.gz PackageFileSize: 1.029 MiB