Package: MVCClass Version: 1.81.0 Command: /Library/Frameworks/R.framework/Resources/bin/R CMD INSTALL MVCClass StartedAt: 2025-02-19 15:03:11 -0500 (Wed, 19 Feb 2025) EndedAt: 2025-02-19 15:03:42 -0500 (Wed, 19 Feb 2025) EllapsedTime: 31.6 seconds RetCode: 0 Status: OK