Package: MVCClass Version: 1.81.0 Command: /Library/Frameworks/R.framework/Resources/bin/R CMD build --keep-empty-dirs --no-resave-data MVCClass StartedAt: 2025-02-19 17:06:27 -0500 (Wed, 19 Feb 2025) EndedAt: 2025-02-19 17:06:31 -0500 (Wed, 19 Feb 2025) EllapsedTime: 4.0 seconds RetCode: 0 Status: OK PackageFile: MVCClass_1.81.0.tar.gz PackageFileSize: 1.031 MiB