Package: MVCClass Version: 1.82.0 Command: /Library/Frameworks/R.framework/Resources/bin/R CMD build --keep-empty-dirs --no-resave-data MVCClass StartedAt: 2025-10-03 05:21:41 -0400 (Fri, 03 Oct 2025) EndedAt: 2025-10-03 05:21:52 -0400 (Fri, 03 Oct 2025) EllapsedTime: 11.3 seconds RetCode: 0 Status: OK PackageFile: MVCClass_1.82.0.tar.gz PackageFileSize: 1.031 MiB