Package: MSstatsTMT Version: 2.15.1 Command: /home/biocbuild/bbs-3.21-bioc/R/bin/R CMD build --keep-empty-dirs --no-resave-data MSstatsTMT StartedAt: 2025-02-20 18:23:23 -0500 (Thu, 20 Feb 2025) EndedAt: 2025-02-20 18:24:20 -0500 (Thu, 20 Feb 2025) EllapsedTime: 57.1 seconds RetCode: 0 Status: OK PackageFile: MSstatsTMT_2.15.1.tar.gz PackageFileSize: 1.531 MiB