Package: MSstatsTMT Version: 2.15.1 Command: /home/biocbuild/R/R/bin/R CMD check --install=check:MSstatsTMT.install-out.txt --library=/home/biocbuild/R/R/site-library --no-vignettes --timings MSstatsTMT_2.15.1.tar.gz StartedAt: 2025-01-28 13:00:50 -0000 (Tue, 28 Jan 2025) EndedAt: 2025-01-28 13:04:04 -0000 (Tue, 28 Jan 2025) EllapsedTime: 194.2 seconds RetCode: 0 Status: OK CheckDir: MSstatsTMT.Rcheck Warnings: 0