Package: MSstatsTMT Version: 2.15.1 Command: /home/biocbuild/R/R/bin/R CMD build --keep-empty-dirs --no-resave-data MSstatsTMT StartedAt: 2025-01-29 00:43:50 -0000 (Wed, 29 Jan 2025) EndedAt: 2025-01-29 00:45:11 -0000 (Wed, 29 Jan 2025) EllapsedTime: 81.1 seconds RetCode: 0 Status: OK PackageFile: MSstatsTMT_2.15.1.tar.gz PackageFileSize: 1.532 MiB