Package: MSstatsShiny Version: 1.9.0 Command: E:\biocbuild\bbs-3.21-bioc\R\bin\R.exe CMD check --no-multiarch --install=check:MSstatsShiny.install-out.txt --library=E:\biocbuild\bbs-3.21-bioc\R\library --no-vignettes --timings MSstatsShiny_1.9.0.tar.gz StartedAt: 2025-02-21 03:41:06 -0500 (Fri, 21 Feb 2025) EndedAt: 2025-02-21 03:45:27 -0500 (Fri, 21 Feb 2025) EllapsedTime: 260.3 seconds RetCode: 0 Status: WARNINGS CheckDir: MSstatsShiny.Rcheck Warnings: 1