Package: MSstatsShiny Version: 1.9.0 Command: rm -rf MSstatsShiny.buildbin-libdir && mkdir MSstatsShiny.buildbin-libdir && E:\biocbuild\bbs-3.21-bioc\R\bin\R.exe CMD INSTALL --build --library=MSstatsShiny.buildbin-libdir MSstatsShiny_1.9.0.tar.gz StartedAt: 2025-02-21 08:37:25 -0500 (Fri, 21 Feb 2025) EndedAt: 2025-02-21 08:38:25 -0500 (Fri, 21 Feb 2025) EllapsedTime: 60.1 seconds RetCode: 0 Status: OK PackageFile: MSstatsShiny_1.9.0.zip PackageFileSize: 2.296 MiB