Package: MSstatsShiny Version: 1.9.0 Command: /home/biocbuild/bbs-3.21-bioc/R/bin/R CMD build --keep-empty-dirs --no-resave-data MSstatsShiny StartedAt: 2025-02-20 18:23:18 -0500 (Thu, 20 Feb 2025) EndedAt: 2025-02-20 18:23:54 -0500 (Thu, 20 Feb 2025) EllapsedTime: 36.0 seconds RetCode: 0 Status: OK PackageFile: MSstatsShiny_1.9.0.tar.gz PackageFileSize: 2.16 MiB