Package: MSstatsShiny Version: 1.9.0 Command: /Library/Frameworks/R.framework/Resources/bin/R CMD INSTALL MSstatsShiny StartedAt: 2025-02-20 15:36:38 -0500 (Thu, 20 Feb 2025) EndedAt: 2025-02-20 15:37:12 -0500 (Thu, 20 Feb 2025) EllapsedTime: 33.8 seconds RetCode: 0 Status: OK