Package: MSstatsShiny Version: 1.9.0 Command: /Library/Frameworks/R.framework/Resources/bin/R CMD check --install=check:MSstatsShiny.install-out.txt --library=/Library/Frameworks/R.framework/Resources/library --no-vignettes --timings MSstatsShiny_1.9.0.tar.gz StartedAt: 2025-02-20 21:54:02 -0500 (Thu, 20 Feb 2025) EndedAt: 2025-02-20 21:57:56 -0500 (Thu, 20 Feb 2025) EllapsedTime: 233.7 seconds RetCode: 0 Status: WARNINGS CheckDir: MSstatsShiny.Rcheck Warnings: 1