Package: MSstatsShiny Version: 1.9.0 Command: /home/biocbuild/R/R/bin/R CMD build --keep-empty-dirs --no-resave-data MSstatsShiny StartedAt: 2025-01-29 00:43:26 -0000 (Wed, 29 Jan 2025) EndedAt: 2025-01-29 00:44:16 -0000 (Wed, 29 Jan 2025) EllapsedTime: 50.0 seconds RetCode: 0 Status: OK PackageFile: MSstatsShiny_1.9.0.tar.gz PackageFileSize: 2.161 MiB