Package: MSstatsQCgui Version: 1.27.0 Command: E:\biocbuild\bbs-3.21-bioc\R\bin\R.exe CMD check --no-multiarch --install=check:MSstatsQCgui.install-out.txt --library=E:\biocbuild\bbs-3.21-bioc\R\library --no-vignettes --timings MSstatsQCgui_1.27.0.tar.gz StartedAt: 2025-02-21 03:41:05 -0500 (Fri, 21 Feb 2025) EndedAt: 2025-02-21 03:45:57 -0500 (Fri, 21 Feb 2025) EllapsedTime: 291.6 seconds RetCode: 0 Status: OK CheckDir: MSstatsQCgui.Rcheck Warnings: 0