Package: MSstatsQCgui Version: 1.27.0 Command: rm -rf MSstatsQCgui.buildbin-libdir && mkdir MSstatsQCgui.buildbin-libdir && E:\biocbuild\bbs-3.21-bioc\R\bin\R.exe CMD INSTALL --build --library=MSstatsQCgui.buildbin-libdir MSstatsQCgui_1.27.0.tar.gz StartedAt: 2025-02-21 08:37:21 -0500 (Fri, 21 Feb 2025) EndedAt: 2025-02-21 08:38:00 -0500 (Fri, 21 Feb 2025) EllapsedTime: 38.7 seconds RetCode: 0 Status: OK PackageFile: MSstatsQCgui_1.27.0.zip PackageFileSize: 93 KiB