Package: MSstatsQCgui Version: 1.27.0 Command: rm -rf MSstatsQCgui.buildbin-libdir && mkdir MSstatsQCgui.buildbin-libdir && /Users/biocbuild/BBS/utils/build-universal.sh MSstatsQCgui_1.27.0.tar.gz /Library/Frameworks/R.framework/Resources/bin/R MSstatsQCgui.buildbin-libdir StartedAt: 2025-02-21 00:42:11 -0500 (Fri, 21 Feb 2025) EndedAt: 2025-02-21 00:43:03 -0500 (Fri, 21 Feb 2025) EllapsedTime: 51.8 seconds RetCode: 0 Status: OK PackageFile: MSstatsQCgui_1.27.0.tgz PackageFileSize: 85.35 KiB