Package: MSstatsQC Version: 2.25.0 Command: chmod a+r MSstatsQC -R && E:\biocbuild\bbs-3.21-bioc\R\bin\R.exe CMD build --keep-empty-dirs --no-resave-data MSstatsQC StartedAt: 2025-02-20 20:15:51 -0500 (Thu, 20 Feb 2025) EndedAt: 2025-02-20 20:18:05 -0500 (Thu, 20 Feb 2025) EllapsedTime: 134.5 seconds RetCode: 0 Status: OK PackageFile: MSstatsQC_2.25.0.tar.gz PackageFileSize: 1.421 MiB