Package: MSstatsQC Version: 2.25.0 Command: rm -rf MSstatsQC.buildbin-libdir && mkdir MSstatsQC.buildbin-libdir && E:\biocbuild\bbs-3.21-bioc\R\bin\R.exe CMD INSTALL --build --library=MSstatsQC.buildbin-libdir MSstatsQC_2.25.0.tar.gz StartedAt: 2025-02-21 08:37:19 -0500 (Fri, 21 Feb 2025) EndedAt: 2025-02-21 08:38:11 -0500 (Fri, 21 Feb 2025) EllapsedTime: 51.1 seconds RetCode: 0 Status: OK PackageFile: MSstatsQC_2.25.0.zip PackageFileSize: 1.494 MiB